BEGIN:VCALENDAR
VERSION:2.0
PRODID:-//Discover The North Shore of Milwaukee - ECPv6.15.20//NONSGML v1.0//EN
CALSCALE:GREGORIAN
METHOD:PUBLISH
X-WR-CALNAME:Discover The North Shore of Milwaukee
X-ORIGINAL-URL:https://discoverthenorthshoremke.com
X-WR-CALDESC:Events for Discover The North Shore of Milwaukee
REFRESH-INTERVAL;VALUE=DURATION:PT1H
X-Robots-Tag:noindex
X-PUBLISHED-TTL:PT1H
BEGIN:VTIMEZONE
TZID:America/New_York
BEGIN:DAYLIGHT
TZOFFSETFROM:-0500
TZOFFSETTO:-0400
TZNAME:EDT
DTSTART:20250309T070000
END:DAYLIGHT
BEGIN:STANDARD
TZOFFSETFROM:-0400
TZOFFSETTO:-0500
TZNAME:EST
DTSTART:20251102T060000
END:STANDARD
BEGIN:DAYLIGHT
TZOFFSETFROM:-0500
TZOFFSETTO:-0400
TZNAME:EDT
DTSTART:20260308T070000
END:DAYLIGHT
BEGIN:STANDARD
TZOFFSETFROM:-0400
TZOFFSETTO:-0500
TZNAME:EST
DTSTART:20261101T060000
END:STANDARD
BEGIN:DAYLIGHT
TZOFFSETFROM:-0500
TZOFFSETTO:-0400
TZNAME:EDT
DTSTART:20270314T070000
END:DAYLIGHT
BEGIN:STANDARD
TZOFFSETFROM:-0400
TZOFFSETTO:-0500
TZNAME:EST
DTSTART:20271107T060000
END:STANDARD
END:VTIMEZONE
BEGIN:VEVENT
DTSTART;TZID=America/New_York:20260422T100000
DTEND;TZID=America/New_York:20260424T170000
DTSTAMP:20260424T064936
CREATED:20260401T175010Z
LAST-MODIFIED:20260401T175010Z
UID:818794-1776852000-1777050000@discoverthenorthshoremke.com
SUMMARY:Indoor Plant Swap
DESCRIPTION:Indoor Plant Swap\nApril 22-24th \nWednesday April 22nd is Earth Day\, and we’re celebrating with our 2nd Plant Swap! \nConsider bringing a plant clipping or plant to swap for something new! We do ask that you let us know what the plant is and the Library will indicate which plants are non-toxic for pets.
URL:https://discoverthenorthshoremke.com/event/indoor-plant-swap/
LOCATION:Brown Deer Public Library\, 4301 W. Brown Deer Rd\, Brown Deer\, WI\, 53223
CATEGORIES:Discover North Shore Events
ATTACH;FMTTYPE=image/jpeg:https://discoverthenorthshoremke.com/wp-content/uploads/2026/04/611636969_1365379198966661_7076435289289113766_n-1.jpg
END:VEVENT
BEGIN:VEVENT
DTSTART;VALUE=DATE:20260423
DTEND;VALUE=DATE:20260427
DTSTAMP:20260424T064936
CREATED:20260326T181156Z
LAST-MODIFIED:20260421T184403Z
UID:818601-1776902400-1777247999@discoverthenorthshoremke.com
SUMMARY:Sparrows Fall by RG Productions
DESCRIPTION:MILWAUKEE WORLD PREMIERE\n“Sparrows Fall” by Richard Gustin April 16-26. An historic collaboration between RG Productions and Theatre Gigante in conjunction with World Premiere Wisconsin. \n“Sparrows Fall” is an innovative Chamber Theatre work with a central focus on the Holocaust and dedicated to those forgotten. Gustin describes the play as “A haunting\, poetic meditation on historical trauma in a world of fractured hope.” \nA timely work for a nation divided. \nExclusive two-week engagement. Featuring some of Milwaukee’s most beloved actors including three recent graduates of UW-Milwaukee’s Theatre BA program. \nOpening Thursday\, April 16th\, 2026\nRuns through Sunday\, April 26th\, 2026 \nPerformances:\nThu\, April 16- 7:30pm\nFri\, April 17- 7:30pm\nSat\, April 18- 7:30pm\nSun\, April 19- 3:00pm \nThu\, April 23- 7:30pm\nFri\, April 24- 7:30pm\nSat\, April 25\, 7:30pm\nSun\, April 26\, 3:00pm \nFor tickets\, click here \nPerformance is at the Norvell Commons Theatre in St. Christopher’s Episcopal Church.
URL:https://discoverthenorthshoremke.com/event/sparrows-fall-by-rg-productions/
LOCATION:St. Christopher’s Episcopal Church\, 7845 N River Rd\, River Hills\, WI\, 53217
CATEGORIES:Discover North Shore Events
ATTACH;FMTTYPE=image/jpeg:https://discoverthenorthshoremke.com/wp-content/uploads/2026/03/sparrows_artwork_2xx_2026_04_a122010198-1.jpg
END:VEVENT
BEGIN:VEVENT
DTSTART;TZID=America/New_York:20260424T180000
DTEND;TZID=America/New_York:20260508T190000
DTSTAMP:20260424T064936
CREATED:20260217T230147Z
LAST-MODIFIED:20260421T184602Z
UID:818050-1777053600-1778266800@discoverthenorthshoremke.com
SUMMARY:Music Bingo at Sprecher Brewery
DESCRIPTION:EVERY FRIDAY! Last one is December 18\, 2026 \nIf you CAN’T GET NO SATISFACTION from your regular granny’s bingo\, then this is the BAR game just for you! \nTuneMaster Music Bingo is exactly what it sounds like: bingo but with the fun of music combined! \nTuneMaster’s live MUSIC BINGO hits Sprecher Brewing Co in Glendale every Friday night! CHA’MONE! \n—————- \nTeams need to listen to 60-second segments of I̶R̶O̶N̶I̶C̶ iconic\, popular songs and simply match them to the ones on the bingo card they have. If it appears on your card mark it off! \nLike your grandma’s regular bingo\, the first person to get all songs in a line is the winner. \nHaven’t played before? Find out more here: \nhttp://www.quizmastertrivia.com/p/tunemaster-music-bingo.html \n—————- \nPRIZES: \nThere will be prizes for each individual game winner. Hey\, IT’S 5’O CLOCK SOMEWHERE. \nThe winner of the FINAL game will get a larger prize… but beware\, MO MONEY\, MO PROBLEMS! \n—————- \nWHAT ELSE? \nMusic Bingo is just $1/player (for all the night’s cards). This is a tip for your MC\, so don’t be stingy all the money goes to them — all they need is $1\, A DOLLAR IS ALL THEY NEED.
URL:https://discoverthenorthshoremke.com/event/music-bingo-at-sprecher-brewery/
LOCATION:Sprecher Brewery\, 701 W Glendale Ave\, Glendale\, WI\, 53209
CATEGORIES:Discover North Shore Events
ATTACH;FMTTYPE=image/jpeg:https://discoverthenorthshoremke.com/wp-content/uploads/2026/02/625851809_1469283705205745_4696467975505030389_n-1.jpg
ORGANIZER;CN="Sprecher Brewing Co.":MAILTO:events@sprecherbrewery.com
END:VEVENT
BEGIN:VEVENT
DTSTART;TZID=America/New_York:20260424T190000
DTEND;TZID=America/New_York:20260424T210000
DTSTAMP:20260424T064936
CREATED:20260406T183053Z
LAST-MODIFIED:20260406T183053Z
UID:818854-1777057200-1777064400@discoverthenorthshoremke.com
SUMMARY:Five Iron Frenzy w/ Something To Do & Space Monkey Mafia
DESCRIPTION:The Argo welcomes Five Iron Frenzy with support from Something To Do & Space Monkey Mafia for a night of live ska punk. \n\n\n\n\nOn April 24th\, The Argo welcomes Five Iron Frenzy with support from Something To Do & Space Monkey Mafia. Hailing from Denver\, Colorado\, Five Iron Frenzy is a longtime staple of the ska punk sceneWith a career spanning decades\, the band has built a dedicated following through their energetic live shows and distinctive sound. \nDoors at 7:00pm. Show at 8:00pm. Full bar service will be available throughout the show\, with the kitchen being open 4-close.All guests under the age of 18 must be accompanied by a parent or legal guardian and supervised at all times while inside the building. Failure to provide proper supervision may result in removal from the premises. We appreciate your cooperation in helping us maintain a safe and enjoyable environment for all guests. \n🎟️ Note: $1 from every ticket sold goes to a fund benefiting local artist mental health & wellbeing. \nPlease note that all ticket purchases are final and nonrefundable.
URL:https://discoverthenorthshoremke.com/event/five-iron-frenzy-w-something-to-do-space-monkey-mafia/
LOCATION:The Argo\, 334 E Silver Spring Dr.\, Whitefish Bay\, WI\, 53217
CATEGORIES:Discover North Shore Events
ATTACH;FMTTYPE=image/webp:https://discoverthenorthshoremke.com/wp-content/uploads/2026/04/image-1.webp
END:VEVENT
END:VCALENDAR